BEGIN:VCALENDAR
VERSION:2.0
PRODID:-//BMW CCA Sierrra Chapter - ECPv6.15.20//NONSGML v1.0//EN
CALSCALE:GREGORIAN
METHOD:PUBLISH
X-ORIGINAL-URL:https://sierrabmwcarclub.org
X-WR-CALDESC:Events for BMW CCA Sierrra Chapter
REFRESH-INTERVAL;VALUE=DURATION:PT1H
X-Robots-Tag:noindex
X-PUBLISHED-TTL:PT1H
BEGIN:VTIMEZONE
TZID:America/Los_Angeles
BEGIN:DAYLIGHT
TZOFFSETFROM:-0800
TZOFFSETTO:-0700
TZNAME:PDT
DTSTART:20200308T100000
END:DAYLIGHT
BEGIN:STANDARD
TZOFFSETFROM:-0700
TZOFFSETTO:-0800
TZNAME:PST
DTSTART:20201101T090000
END:STANDARD
BEGIN:DAYLIGHT
TZOFFSETFROM:-0800
TZOFFSETTO:-0700
TZNAME:PDT
DTSTART:20210314T100000
END:DAYLIGHT
BEGIN:STANDARD
TZOFFSETFROM:-0700
TZOFFSETTO:-0800
TZNAME:PST
DTSTART:20211107T090000
END:STANDARD
BEGIN:DAYLIGHT
TZOFFSETFROM:-0800
TZOFFSETTO:-0700
TZNAME:PDT
DTSTART:20220313T100000
END:DAYLIGHT
BEGIN:STANDARD
TZOFFSETFROM:-0700
TZOFFSETTO:-0800
TZNAME:PST
DTSTART:20221106T090000
END:STANDARD
END:VTIMEZONE
BEGIN:VEVENT
DTSTART;TZID=America/Los_Angeles:20211009T083000
DTEND;TZID=America/Los_Angeles:20211009T130000
DTSTAMP:20260419T061910
CREATED:20210927T235119Z
LAST-MODIFIED:20211006T135313Z
UID:22691-1633768200-1633784400@sierrabmwcarclub.org
SUMMARY:2021 Poker Run
DESCRIPTION:We meet on the second Thursday of each month. The meetings start @ 6PM with dinner following. We will be holding our Meeting & Dinner (Mar 9th) @ at Famous Dave;s\, 4925 Kietzke Ln in Reno at 6:00pm. We have a private room\, called the Niche.  And they will do separate checks. We hope to see you there. 								\n				\n				\n				\n									Famous Dave’s BBQ Restaurant in RENO\, NEVADA | Best Barbecue RestaurantFind a Famous Dave’s BBQ restaurant near you in RENO\, NEVADA. View our store hours\, directions\, phone number\, menu\, and more. Order online now!  								\n				\n				\n				\n									I’M GOING! Please fill out the form below.
URL:https://sierrabmwcarclub.org/event/2021-poker-run/
LOCATION:Raley’s O-N-E Market Parking lot\, 18144 Wedge Pkwy\, Reno\, NV\, 89510-0011\, United States
CATEGORIES:Drive/Tour
ATTACH;FMTTYPE=image/jpeg:https://sierrabmwcarclub.org/wp-content/uploads/sierra-poker-cards.jpg
ORGANIZER;CN="Lance Taylor-Warren":MAILTO:ltaylorwarren@mac.com
END:VEVENT
BEGIN:VEVENT
DTSTART;TZID=America/Los_Angeles:20211009T093000
DTEND;TZID=America/Los_Angeles:20211009T130000
DTSTAMP:20260419T061910
CREATED:20210923T011148Z
LAST-MODIFIED:20211006T135753Z
UID:21725-1633771800-1633784400@sierrabmwcarclub.org
SUMMARY:Cancelled for Poker Run! 2021 Oct Second Saturday Drive (SSD)
DESCRIPTION:We meet on the second Thursday of each month. The meetings start @ 6PM with dinner following. We will be holding our Meeting & Dinner (Mar 9th) @ at Famous Dave;s\, 4925 Kietzke Ln in Reno at 6:00pm. We have a private room\, called the Niche.  And they will do separate checks. We hope to see you there. 								\n				\n				\n				\n									Famous Dave’s BBQ Restaurant in RENO\, NEVADA | Best Barbecue RestaurantFind a Famous Dave’s BBQ restaurant near you in RENO\, NEVADA. View our store hours\, directions\, phone number\, menu\, and more. Order online now!  								\n				\n				\n				\n									I’M GOING! Please fill out the form below.
URL:https://sierrabmwcarclub.org/event/2021-oct-ssd/
LOCATION:Raley’s O-N-E Market Parking lot\, 18144 Wedge Pkwy\, Reno\, NV\, 89510-0011\, United States
CATEGORIES:Second Saturday Drive
ATTACH;FMTTYPE=image/jpeg:https://sierrabmwcarclub.org/wp-content/uploads/ssd-m4-blur-featured.jpg
ORGANIZER;CN="Lance Taylor-Warren":MAILTO:ltaylorwarren@mac.com
END:VEVENT
BEGIN:VEVENT
DTSTART;TZID=America/Los_Angeles:20211014T180000
DTEND;TZID=America/Los_Angeles:20211014T210000
DTSTAMP:20260419T061910
CREATED:20170131T215142Z
LAST-MODIFIED:20211009T191009Z
UID:21132-1634234400-1634245200@sierrabmwcarclub.org
SUMMARY:2021 October Sierra Chapter Meeting
DESCRIPTION:We meet on the second Thursday of each month. The meetings start @ 6PM with dinner following. We will be holding our Meeting & Dinner (Mar 9th) @ at Famous Dave;s\, 4925 Kietzke Ln in Reno at 6:00pm. We have a private room\, called the Niche.  And they will do separate checks. We hope to see you there. 								\n				\n				\n				\n									Famous Dave’s BBQ Restaurant in RENO\, NEVADA | Best Barbecue RestaurantFind a Famous Dave’s BBQ restaurant near you in RENO\, NEVADA. View our store hours\, directions\, phone number\, menu\, and more. Order online now!  								\n				\n				\n				\n									I’M GOING! Please fill out the form below.
URL:https://sierrabmwcarclub.org/event/2021-oct-meeting/
LOCATION:Mi Casa Too Mexican Restaurant and Cantina Bar\, 2205 W 4th St\, Reno\, NV\, 89503\, United States
CATEGORIES:Meeting
ATTACH;FMTTYPE=image/jpeg:https://sierrabmwcarclub.org/wp-content/uploads/2020-Oct-Mtg.jpg
ORGANIZER;CN="Lance Taylor-Warren":MAILTO:ltaylorwarren@mac.com
END:VEVENT
END:VCALENDAR