BEGIN:VCALENDAR
VERSION:2.0
PRODID:-//BMW CCA Sierrra Chapter - ECPv6.15.20//NONSGML v1.0//EN
CALSCALE:GREGORIAN
METHOD:PUBLISH
X-WR-CALNAME:BMW CCA Sierrra Chapter
X-ORIGINAL-URL:https://sierrabmwcarclub.org
X-WR-CALDESC:Events for BMW CCA Sierrra Chapter
REFRESH-INTERVAL;VALUE=DURATION:PT1H
X-Robots-Tag:noindex
X-PUBLISHED-TTL:PT1H
BEGIN:VTIMEZONE
TZID:America/Los_Angeles
BEGIN:DAYLIGHT
TZOFFSETFROM:-0800
TZOFFSETTO:-0700
TZNAME:PDT
DTSTART:20100314T100000
END:DAYLIGHT
BEGIN:STANDARD
TZOFFSETFROM:-0700
TZOFFSETTO:-0800
TZNAME:PST
DTSTART:20101107T090000
END:STANDARD
BEGIN:DAYLIGHT
TZOFFSETFROM:-0800
TZOFFSETTO:-0700
TZNAME:PDT
DTSTART:20110313T100000
END:DAYLIGHT
BEGIN:STANDARD
TZOFFSETFROM:-0700
TZOFFSETTO:-0800
TZNAME:PST
DTSTART:20111106T090000
END:STANDARD
BEGIN:DAYLIGHT
TZOFFSETFROM:-0800
TZOFFSETTO:-0700
TZNAME:PDT
DTSTART:20120311T100000
END:DAYLIGHT
BEGIN:STANDARD
TZOFFSETFROM:-0700
TZOFFSETTO:-0800
TZNAME:PST
DTSTART:20121104T090000
END:STANDARD
END:VTIMEZONE
BEGIN:VEVENT
DTSTART;TZID=America/Los_Angeles:20110625T100000
DTEND;TZID=America/Los_Angeles:20110625T160000
DTSTAMP:20260425T181527
CREATED:20150410T201651Z
LAST-MODIFIED:20210930T005924Z
UID:7757-1308996000-1309017600@sierrabmwcarclub.org
SUMMARY:Tahoe Gal Cruise with Sacramento Chapter
DESCRIPTION:REMINDER \nRelax with us on this 3.5 hour cruise over the crystal clear waters of Lake Tahoe to pristine Emerald Bay while we listen to our captain’s live educational narration\, which touches on historical and ecological issues of the Tahoe basin. Some of the spectacular sites on tour include Ehrman Mansion at Sugar Pine Point\, Rubicon Point\, Fanette Island\, Vikingsholm Castle and an occasional sighting of Osprey and Bald Eagle for more information visit http://www.tahoegal.com/ \nWe’ll meet at the Starbucks on Mt Rose Hwy @10AM and stop at the Starbucks in Incline Village Incline at about 10:30 (10 minute stop) and the to Tahoe City to meet up with the Sacramento Chapter at the Tahoe Gal. Ship leaves at 12:30PM sharp. After the ride everyone will return at their leisure. \n﻿ \nClick here  for the mapped route\nFor further information on this event contact: John English\nCost $40.00/person\nLunch is available at an additional cost. Prices range from $8-18. They also have a full bar open on ship. (Food and drinks cannot be brought on to the boat.) \nHope to see you there\, don’t forget the SUNSCREEN!
URL:https://sierrabmwcarclub.org/event/tahoe-gal-cruise-with-sacramento-chapter/
LOCATION:Tahoe Gal\, 952 N Lake Blvd\,\, Tahoe City\, CA\, 96145\, United States
CATEGORIES:Drive/Tour,Museum,Social
ATTACH;FMTTYPE=image/gif:https://sierrabmwcarclub.org/wp-content/uploads/Collection.gif
ORGANIZER;CN="Russ & Cheri Huntoon":MAILTO:Events@SierraBMWCarClub.org
END:VEVENT
END:VCALENDAR