BEGIN:VCALENDAR
VERSION:2.0
PRODID:-//BMW CCA Sierrra Chapter - ECPv6.15.20//NONSGML v1.0//EN
CALSCALE:GREGORIAN
METHOD:PUBLISH
X-WR-CALNAME:BMW CCA Sierrra Chapter
X-ORIGINAL-URL:https://sierrabmwcarclub.org
X-WR-CALDESC:Events for BMW CCA Sierrra Chapter
REFRESH-INTERVAL;VALUE=DURATION:PT1H
X-Robots-Tag:noindex
X-PUBLISHED-TTL:PT1H
BEGIN:VTIMEZONE
TZID:America/Los_Angeles
BEGIN:DAYLIGHT
TZOFFSETFROM:-0800
TZOFFSETTO:-0700
TZNAME:PDT
DTSTART:20120311T100000
END:DAYLIGHT
BEGIN:STANDARD
TZOFFSETFROM:-0700
TZOFFSETTO:-0800
TZNAME:PST
DTSTART:20121104T090000
END:STANDARD
BEGIN:DAYLIGHT
TZOFFSETFROM:-0800
TZOFFSETTO:-0700
TZNAME:PDT
DTSTART:20130310T100000
END:DAYLIGHT
BEGIN:STANDARD
TZOFFSETFROM:-0700
TZOFFSETTO:-0800
TZNAME:PST
DTSTART:20131103T090000
END:STANDARD
BEGIN:DAYLIGHT
TZOFFSETFROM:-0800
TZOFFSETTO:-0700
TZNAME:PDT
DTSTART:20140309T100000
END:DAYLIGHT
BEGIN:STANDARD
TZOFFSETFROM:-0700
TZOFFSETTO:-0800
TZNAME:PST
DTSTART:20141102T090000
END:STANDARD
END:VTIMEZONE
BEGIN:VEVENT
DTSTART;TZID=America/Los_Angeles:20131010T180000
DTEND;TZID=America/Los_Angeles:20131010T210000
DTSTAMP:20260420T094540
CREATED:20150410T201712Z
LAST-MODIFIED:20211001T010351Z
UID:7788-1381428000-1381438800@sierrabmwcarclub.org
SUMMARY:Sierra Chapter Meeting@ Bill Pearce / Dinner @ Silver Peak Restaurant
DESCRIPTION:We meet on the second Thursday of each month @ Bill Pearce BMW\, 11555 S. Virginia in Reno. The meetings start @ 6PM\, but feel free to show up early to talk cars or just drool over the new stuff in the showroom.\nAfter our meetings end (~7 PM) many of us head out to dinner at a local restaurant. This month we will be going to the Silver Peak Restaurant (http://silverpeakrestaurant.com/) at 124 Wonder Street Reno\, NV 89502. Check out their lunch (https://silverpeakrestaurant.com/food/lunch-menu/) and dinner (https://silverpeakrestaurant.com/food/dinner-menu/) menus. \nHope to see you there! \nAGENDA\n1)New Members\n2)Sierra BMWCCA Website Improvements\n3)BMW Z5 Rumor Mill\n4)BMW German Annual Inspection Checklist\n5)Street Survival Recap\n6)4 Series Coupe Presentation (Showroom)\n7)BMW Trivia\n8)Q&A?\n9)Dinner @ Silver Peak Restaurant (Wonder St.) \nRegistrations are closed for this event
URL:https://sierrabmwcarclub.org/event/sierra-chapter-meeting-bill-pearce-dinner-silver-peak-restaurant/
LOCATION:Bill Pearce BMW\, 11555 South Virginia Street\, Reno\, NV\, 89511\, United States
CATEGORIES:Meeting
ATTACH;FMTTYPE=image/png:https://sierrabmwcarclub.org/wp-content/uploads/OctoberMeeting.png
ORGANIZER;CN="Pat McGoff":MAILTO:pjmcgoff@att.net
END:VEVENT
END:VCALENDAR