BEGIN:VCALENDAR
VERSION:2.0
PRODID:-//BMW CCA Sierrra Chapter - ECPv6.15.20//NONSGML v1.0//EN
CALSCALE:GREGORIAN
METHOD:PUBLISH
X-WR-CALNAME:BMW CCA Sierrra Chapter
X-ORIGINAL-URL:https://sierrabmwcarclub.org
X-WR-CALDESC:Events for BMW CCA Sierrra Chapter
REFRESH-INTERVAL;VALUE=DURATION:PT1H
X-Robots-Tag:noindex
X-PUBLISHED-TTL:PT1H
BEGIN:VTIMEZONE
TZID:America/Los_Angeles
BEGIN:DAYLIGHT
TZOFFSETFROM:-0800
TZOFFSETTO:-0700
TZNAME:PDT
DTSTART:20140309T100000
END:DAYLIGHT
BEGIN:STANDARD
TZOFFSETFROM:-0700
TZOFFSETTO:-0800
TZNAME:PST
DTSTART:20141102T090000
END:STANDARD
BEGIN:DAYLIGHT
TZOFFSETFROM:-0800
TZOFFSETTO:-0700
TZNAME:PDT
DTSTART:20150308T100000
END:DAYLIGHT
BEGIN:STANDARD
TZOFFSETFROM:-0700
TZOFFSETTO:-0800
TZNAME:PST
DTSTART:20151101T090000
END:STANDARD
BEGIN:DAYLIGHT
TZOFFSETFROM:-0800
TZOFFSETTO:-0700
TZNAME:PDT
DTSTART:20160313T100000
END:DAYLIGHT
BEGIN:STANDARD
TZOFFSETFROM:-0700
TZOFFSETTO:-0800
TZNAME:PST
DTSTART:20161106T090000
END:STANDARD
END:VTIMEZONE
BEGIN:VEVENT
DTSTART;TZID=America/Los_Angeles:20150709T180000
DTEND;TZID=America/Los_Angeles:20150709T210000
DTSTAMP:20260420T123358
CREATED:20150410T201626Z
LAST-MODIFIED:20211001T000534Z
UID:7723-1436464800-1436475600@sierrabmwcarclub.org
SUMMARY:Sierra Chapter Meeting@ Bill Pearce / Dinner @ La Vecchia
DESCRIPTION:We meet on the second Thursday of each month @ Bill Pearce BMW\, 11555 S. Virginia in Reno. The meetings start @ 6PM\, but feel free to show up early to talk cars or just drool over the new stuff in the showroom.\nAfter our meetings end (~7 PM) many of us head out to dinner at a local restaurant. This month we will be going to La Vecchia (https://g.co/maps/pvdpw) \nHope to see you there! \nAGENDA \n1. New Members & Membership Update (Sharon)\n2. Upcoming Events for 2015\n3. The new BMW 7 Series\n4. Takata Airbag Recall impacts 420\,661 BMW’s\n5. BMW has a record May for Sales\n6. European BMW’s by John Strom\n7. BMW Trivia\n8. Q&A?\n9. Dinner @ La Vecchia Italian Bistro \nRegistrations are closed for this event
URL:https://sierrabmwcarclub.org/event/sierra-chapter-meeting-bill-pearce-dinner-la-vecchia-11/
LOCATION:Bill Pearce BMW\, 11555 South Virginia Street\, Reno\, NV\, 89511\, United States
CATEGORIES:Meeting
ORGANIZER;CN="Pat McGoff":MAILTO:pjmcgoff@att.net
END:VEVENT
END:VCALENDAR