BEGIN:VCALENDAR
VERSION:2.0
PRODID:-//BMW CCA Sierrra Chapter - ECPv6.15.20//NONSGML v1.0//EN
CALSCALE:GREGORIAN
METHOD:PUBLISH
X-WR-CALNAME:BMW CCA Sierrra Chapter
X-ORIGINAL-URL:https://sierrabmwcarclub.org
X-WR-CALDESC:Events for BMW CCA Sierrra Chapter
REFRESH-INTERVAL;VALUE=DURATION:PT1H
X-Robots-Tag:noindex
X-PUBLISHED-TTL:PT1H
BEGIN:VTIMEZONE
TZID:America/Los_Angeles
BEGIN:DAYLIGHT
TZOFFSETFROM:-0800
TZOFFSETTO:-0700
TZNAME:PDT
DTSTART:20120311T100000
END:DAYLIGHT
BEGIN:STANDARD
TZOFFSETFROM:-0700
TZOFFSETTO:-0800
TZNAME:PST
DTSTART:20121104T090000
END:STANDARD
BEGIN:DAYLIGHT
TZOFFSETFROM:-0800
TZOFFSETTO:-0700
TZNAME:PDT
DTSTART:20130310T100000
END:DAYLIGHT
BEGIN:STANDARD
TZOFFSETFROM:-0700
TZOFFSETTO:-0800
TZNAME:PST
DTSTART:20131103T090000
END:STANDARD
BEGIN:DAYLIGHT
TZOFFSETFROM:-0800
TZOFFSETTO:-0700
TZNAME:PDT
DTSTART:20140309T100000
END:DAYLIGHT
BEGIN:STANDARD
TZOFFSETFROM:-0700
TZOFFSETTO:-0800
TZNAME:PST
DTSTART:20141102T090000
END:STANDARD
END:VTIMEZONE
BEGIN:VEVENT
DTSTART;VALUE=DATE:20130608
DTEND;VALUE=DATE:20130610
DTSTAMP:20260425T181405
CREATED:20150410T201545Z
LAST-MODIFIED:20210930T204530Z
UID:7687-1370649600-1370822399@sierrabmwcarclub.org
SUMMARY:Mystery Wine Tour
DESCRIPTION:Come join us for a Mystery Wine Tour\, Saturday and Sunday\, June 8-9\, 2013. That’s right… we’re going on an overnight tour to wineries you’ve probably never heard of in a place you’ve probably never been! Sound like fun?We’ll drive some great roads\, enjoy some good food (…and wine!)\, meet some great people and generally have the usual BMW Club great time!!! The tour is limited to 12 cars\, so sign up early! \nWe’ll meet at 8 AM at McDonalds off 395 North at Lemmon Drive on Saturday morning\, June 8. At that time we’ll provide you with the itinerary and plans for the weekend. Have a full tank of gas and be prepared for some fun driving! Bring a picnic lunch you can enjoy at our first winery stop. Dinner will be a casual affair at a great restaurant. We’ve reserved hotel rooms for Saturday night. Return home on your own time on Sunday (we’ll provide some suggested routes). It’s all pay-as-you-go – nothing up-front except your commitment. Tour is limited to 12 cars\, so sign up quickly to guarantee your spot. Call or email John or Alice Strom at 775-851-3000. \nRegistrations are closed for this event
URL:https://sierrabmwcarclub.org/event/mystery-wine-tour-2/
LOCATION:McDonalds off 395 North at Lemmon Drive\, 120 Lemmon Drive\, Reno\, 89506
CATEGORIES:Drive/Tour,Social
ATTACH;FMTTYPE=image/jpeg:https://sierrabmwcarclub.org/wp-content/uploads/2016Q1-Wine.jpg
ORGANIZER;CN="John Strom":MAILTO:jstromsa@gmail.com
END:VEVENT
END:VCALENDAR