BEGIN:VCALENDAR
VERSION:2.0
PRODID:-//BMW CCA Sierrra Chapter - ECPv6.15.20//NONSGML v1.0//EN
CALSCALE:GREGORIAN
METHOD:PUBLISH
X-WR-CALNAME:BMW CCA Sierrra Chapter
X-ORIGINAL-URL:https://sierrabmwcarclub.org
X-WR-CALDESC:Events for BMW CCA Sierrra Chapter
REFRESH-INTERVAL;VALUE=DURATION:PT1H
X-Robots-Tag:noindex
X-PUBLISHED-TTL:PT1H
BEGIN:VTIMEZONE
TZID:America/Los_Angeles
BEGIN:DAYLIGHT
TZOFFSETFROM:-0800
TZOFFSETTO:-0700
TZNAME:PDT
DTSTART:20190310T100000
END:DAYLIGHT
BEGIN:STANDARD
TZOFFSETFROM:-0700
TZOFFSETTO:-0800
TZNAME:PST
DTSTART:20191103T090000
END:STANDARD
BEGIN:DAYLIGHT
TZOFFSETFROM:-0800
TZOFFSETTO:-0700
TZNAME:PDT
DTSTART:20200308T100000
END:DAYLIGHT
BEGIN:STANDARD
TZOFFSETFROM:-0700
TZOFFSETTO:-0800
TZNAME:PST
DTSTART:20201101T090000
END:STANDARD
BEGIN:DAYLIGHT
TZOFFSETFROM:-0800
TZOFFSETTO:-0700
TZNAME:PDT
DTSTART:20210314T100000
END:DAYLIGHT
BEGIN:STANDARD
TZOFFSETFROM:-0700
TZOFFSETTO:-0800
TZNAME:PST
DTSTART:20211107T090000
END:STANDARD
END:VTIMEZONE
BEGIN:VEVENT
DTSTART;TZID=America/Los_Angeles:20201008T180000
DTEND;TZID=America/Los_Angeles:20201008T210000
DTSTAMP:20260422T055447
CREATED:20170131T215142Z
LAST-MODIFIED:20210930T201017Z
UID:20695-1602180000-1602190800@sierrabmwcarclub.org
SUMMARY:2020 October Sierra Chapter Meeting
DESCRIPTION:Please join us for our monthly Chapter Meeting and Dinner. We meet on the second Thursday of each month\, the meetings start @ 6PM. This month the meeting and dinner (with separate checks) will be at Bricks Restaurant (1695 S Virginia St in Reno). We will take the first 20 members/spouses (total) for the meeting/dinner). Bricks is set up with approved social distancing and follows other Corvid regulations. \nFor planning purposes RSVPs are required\nand must be in by October 7th\nOtherwise we cannot guarantee a seat\nAGENDA\n\nNew Members & Membership Update\nSlate of Officers\nBMW Trivia\nQ&A?\nDinner @ Bricks (click here for the menu).\n\nI’M GOING! Please fill out the form below.\nRegistrations are closed for this event
URL:https://sierrabmwcarclub.org/event/2020-oct-meeting/
LOCATION:Bricks\, 1695 S Virginia St\, Reno\, NV\, 89502\, United States
CATEGORIES:Meeting
ATTACH;FMTTYPE=image/png:https://sierrabmwcarclub.org/wp-content/uploads/OctoberMeeting.png
ORGANIZER;CN="Pat McGoff":MAILTO:pjmcgoff@att.net
END:VEVENT
END:VCALENDAR