BEGIN:VCALENDAR
VERSION:2.0
PRODID:-//BMW CCA Sierrra Chapter - ECPv6.15.20//NONSGML v1.0//EN
CALSCALE:GREGORIAN
METHOD:PUBLISH
X-WR-CALNAME:BMW CCA Sierrra Chapter
X-ORIGINAL-URL:https://sierrabmwcarclub.org
X-WR-CALDESC:Events for BMW CCA Sierrra Chapter
REFRESH-INTERVAL;VALUE=DURATION:PT1H
X-Robots-Tag:noindex
X-PUBLISHED-TTL:PT1H
BEGIN:VTIMEZONE
TZID:America/Los_Angeles
BEGIN:DAYLIGHT
TZOFFSETFROM:-0800
TZOFFSETTO:-0700
TZNAME:PDT
DTSTART:20180311T100000
END:DAYLIGHT
BEGIN:STANDARD
TZOFFSETFROM:-0700
TZOFFSETTO:-0800
TZNAME:PST
DTSTART:20181104T090000
END:STANDARD
BEGIN:DAYLIGHT
TZOFFSETFROM:-0800
TZOFFSETTO:-0700
TZNAME:PDT
DTSTART:20190310T100000
END:DAYLIGHT
BEGIN:STANDARD
TZOFFSETFROM:-0700
TZOFFSETTO:-0800
TZNAME:PST
DTSTART:20191103T090000
END:STANDARD
BEGIN:DAYLIGHT
TZOFFSETFROM:-0800
TZOFFSETTO:-0700
TZNAME:PDT
DTSTART:20200308T100000
END:DAYLIGHT
BEGIN:STANDARD
TZOFFSETFROM:-0700
TZOFFSETTO:-0800
TZNAME:PST
DTSTART:20201101T090000
END:STANDARD
END:VTIMEZONE
BEGIN:VEVENT
DTSTART;TZID=America/Los_Angeles:20190613T180000
DTEND;TZID=America/Los_Angeles:20190613T210000
DTSTAMP:20260421T122610
CREATED:20170131T215142Z
LAST-MODIFIED:20210930T185616Z
UID:18891-1560448800-1560459600@sierrabmwcarclub.org
SUMMARY:2019 June Sierra Chapter Meeting
DESCRIPTION:We meet on the second Thursday of each month @ Bill Pearce BMW\, 11555 S. Virginia in Reno. The meetings start @ 6PM\, but feel free to show up early to talk cars or just drool over the new stuff in the showroom.\nAfter our meetings end (~7 PM) many of us head out to dinner to Napa -Sonoma South ( 7671 S. Virginia St in Reno). \nClick here to check out last month’s minutes. \nPRESIDENT’S MESSAGE\nAs we roll perfectly into a warm summer\, perfect driving weather is upon us. The very true slogan “ultimate driving machine” is very true so please enjoy yours to the max. I hope everyone enjoyed the Virginia City tour which\, unfortunately\, I was unable to attend this year but certainly hope to next year. Anyone who hasn’t done it yet should certainly attempt to do so next year. \nThere are quite a few exciting and fun events coming up\, the first being Cars and Calories\, a tour of the Intrepid Motorcar Facility on June 22nd at 10 am. Next will be our drive to Berlin State Park on June 29th. This is a beautiful drive through very varied Nevada landscapes\, visiting a small well preserved ghost town along the way as well as an Ichthyosaur exhibit. In July we will tour to Nevada City on some very beautiful California mountain roads. Please check our calendar for more details. I certainly hope to see you at these fabulous events. \nMart Jaama\nPresident \nAGENDA\n\nNew Members & Membership Update\nFuture Upcoming Events for 2019\n\nJune 22 – Cars & Calories @ Intrepid\nJune 29 – Berlin State Park\nJuly 20 – Nevada City Tour\n\n\nVirginia City Tour video\nBMW Briefs\nBMW Trivia\nQ&A?\nDinner @ Napa -Sonoma South ( 7671 S. Virginia St in Reno) (click here for menu) following the meeting.\n\nHope to see you there! \nI’M GOING! Please fill out the form below.\nRegistrations are closed for this event
URL:https://sierrabmwcarclub.org/event/2019-jun-meeting/
LOCATION:Bill Pearce BMW\, 11555 South Virginia Street\, Reno\, NV\, 89511\, United States
CATEGORIES:Meeting
ATTACH;FMTTYPE=image/png:https://sierrabmwcarclub.org/wp-content/uploads/JuneMeeting.png
ORGANIZER;CN="Mart Jaama":MAILTO:president@sierrabmwcarclub.org
END:VEVENT
END:VCALENDAR