BEGIN:VCALENDAR
VERSION:2.0
PRODID:-//BMW CCA Sierrra Chapter - ECPv6.15.20//NONSGML v1.0//EN
CALSCALE:GREGORIAN
METHOD:PUBLISH
X-WR-CALNAME:BMW CCA Sierrra Chapter
X-ORIGINAL-URL:https://sierrabmwcarclub.org
X-WR-CALDESC:Events for BMW CCA Sierrra Chapter
REFRESH-INTERVAL;VALUE=DURATION:PT1H
X-Robots-Tag:noindex
X-PUBLISHED-TTL:PT1H
BEGIN:VTIMEZONE
TZID:America/Los_Angeles
BEGIN:DAYLIGHT
TZOFFSETFROM:-0800
TZOFFSETTO:-0700
TZNAME:PDT
DTSTART:20160313T100000
END:DAYLIGHT
BEGIN:STANDARD
TZOFFSETFROM:-0700
TZOFFSETTO:-0800
TZNAME:PST
DTSTART:20161106T090000
END:STANDARD
BEGIN:DAYLIGHT
TZOFFSETFROM:-0800
TZOFFSETTO:-0700
TZNAME:PDT
DTSTART:20170312T100000
END:DAYLIGHT
BEGIN:STANDARD
TZOFFSETFROM:-0700
TZOFFSETTO:-0800
TZNAME:PST
DTSTART:20171105T090000
END:STANDARD
BEGIN:DAYLIGHT
TZOFFSETFROM:-0800
TZOFFSETTO:-0700
TZNAME:PDT
DTSTART:20180311T100000
END:DAYLIGHT
BEGIN:STANDARD
TZOFFSETFROM:-0700
TZOFFSETTO:-0800
TZNAME:PST
DTSTART:20181104T090000
END:STANDARD
END:VTIMEZONE
BEGIN:VEVENT
DTSTART;TZID=America/Los_Angeles:20170812T120000
DTEND;TZID=America/Los_Angeles:20170812T120000
DTSTAMP:20260421T022756
CREATED:20150410T201623Z
LAST-MODIFIED:20210930T202434Z
UID:11304-1502539200-1502539200@sierrabmwcarclub.org
SUMMARY:2017 4th Annual BMWCCA Sierra Chapter Family Picnic & Show-n-Shine
DESCRIPTION:Join us for the Fourth Annual BMWCCA Sierra Chapter Picnic!\n– Club Events are for Sierra Chapter Members Only –\n\nThe Arrowcreek Residents Club has 3 pools\, play area\, spa\, 4 tennis courts\, indoor facilities\, Pickle Balls courts and a field that can be used for soccer or volleyball and other games – a fun time guaranteed! Families are welcome. \nShow & Shine\nAll cars are welcome! Great opportunity to show off your car (and see others) as well as talk cars with fellow members. It is not a Concours event\, so no need to wash and polish your car all week long. There will be fun awards given out. Three People’s Choice awards and a few others by the judges. THIS IS A FUN EVENT!\n\nRC Races\nPull out your RC (radio controlled) cars and charge them up for some fun parking lot races. If you don’t have any\, borrow from your kids or grand kids. Looking for volunteers to help\, contact Mart Jaama.\n\nFood\nThe club will provide the main course of hamburgers\, sausage \, hot dogs\, buns\, condiments.\nBWOB and appetizers\, please indicate what you’ll be bringing in the RSVP form. \nFor more information contact Pat McGoff \nI WANNA GO!!! Fill out the form below…\nRegistrations are closed for this event
URL:https://sierrabmwcarclub.org/event/2017-fp/
LOCATION:Arrowcreek Resident’s Center\, 2900 Arrowcreek Pkwy\, Reno\, NV\, 89511\, United States
CATEGORIES:Social
ATTACH;FMTTYPE=image/jpeg:https://sierrabmwcarclub.org/wp-content/uploads/2021-fam-picnic.jpg
ORGANIZER;CN="Pat McGoff":MAILTO:pjmcgoff@att.net
END:VEVENT
END:VCALENDAR